BEGIN:VCALENDAR
PRODID:-//Microsoft Corporation//Outlook 12.0 MIMEDIR//EN
VERSION:2.0
CALSCALE:GREGORIAN
BEGIN:VEVENT
UID: c38459f8-3540-4e2b-abcd-793103cfbac6
SUMMARY:Playback 2026
DTSTAMP:20260318T160000
DTSTART:20260318T160000
DTEND:20260318T173000
LOCATION:Pärnu Vanalinna Põhikool
DESCRIPTION: <p>🌟 Kutsume kõiki osalema "Playback 2026", mis toimub 18. märtsil 2026 kooli aulas.🌟</p><p>🎼 Konkurss toimub kahes vanuseastmes:<br>1.-4. klassid<br>5.-9. klassid</p><p>Etteaste pikkus: kuni 3 minutit.<br>Oodatud on nii grupid kui ka üksikesinejad.</p><p>📅 Ajagraafik:<br>Esinejate proovid alates 14:00 - 15.30. Prooviaeg lepitakse eelnevalt kokku huvijuhiga.<br>Ürituse algus kell 16:00</p><p>💡 Oluline info osalejatele:<br>Registreerimine: Avatud kuni 13. märtsini.<br>Registreeri lingil:<br>https://bit.ly/Playback2026<br>(sisene Pärnu Vanalinna Põhikooli kontoga) või tule huvijuhi juurde ja pane end kirja!<br>Registreerimisel esita link originaalvideole, et esinemisel just see õige muusika kõlaks.</p><p>🏆 Züri: Hindajate hulka kuuluvad nii õpetajad kui ka õpilasesinduse liikmed.<br>🏅 Auhinnad ootavad!</p><p>🎉 Publik:<br>Lisaks õpilastele ja õpetajatele on oodatud ka pered esinemist vaatama, nii et kutsuge julgelt ka oma lähedasi kaasa!</p><p>🎤 Kohtumiseni Playback 2026'l!</p><p><strong>Link: </strong>https://parnuvanalinnakool.ee/et/sundmuste-kalender/playback-2026</p><p><strong>Hind: </strong></p>
STATUS:CONFIRMED
SEQUENCE:3
X-ALT-DESC;FMTTYPE=text/html:<p>🌟 Kutsume kõiki osalema "Playback 2026", mis toimub 18. märtsil 2026 kooli aulas.🌟</p><p>🎼 Konkurss toimub kahes vanuseastmes:<br>1.-4. klassid<br>5.-9. klassid</p><p>Etteaste pikkus: kuni 3 minutit.<br>Oodatud on nii grupid kui ka üksikesinejad.</p><p>📅 Ajagraafik:<br>Esinejate proovid alates 14:00 - 15.30. Prooviaeg lepitakse eelnevalt kokku huvijuhiga.<br>Ürituse algus kell 16:00</p><p>💡 Oluline info osalejatele:<br>Registreerimine: Avatud kuni 13. märtsini.<br>Registreeri lingil:<br>https://bit.ly/Playback2026<br>(sisene Pärnu Vanalinna Põhikooli kontoga) või tule huvijuhi juurde ja pane end kirja!<br>Registreerimisel esita link originaalvideole, et esinemisel just see õige muusika kõlaks.</p><p>🏆 Züri: Hindajate hulka kuuluvad nii õpetajad kui ka õpilasesinduse liikmed.<br>🏅 Auhinnad ootavad!</p><p>🎉 Publik:<br>Lisaks õpilastele ja õpetajatele on oodatud ka pered esinemist vaatama, nii et kutsuge julgelt ka oma lähedasi kaasa!</p><p>🎤 Kohtumiseni Playback 2026'l!</p><p><strong>Link: </strong>https://parnuvanalinnakool.ee/et/sundmuste-kalender/playback-2026</p><p><strong>Hind: </strong></p>
X-MICROSOFT-CDO-BUSYSTATUS:OOF
X-MICROSOFT-CDO-IMPORTANCE:1
X-MICROSOFT-DISALLOW-COUNTER:FALSE
X-MS-OLK-ALLOWEXTERNCHECK:TRUE
X-MS-OLK-CONFTYPE:0
X-MICROSOFT-CDO-ALLDAYEVENT:
X-MICROSOFT-MSNCALENDAR-ALLDAYEVENT:
END:VEVENT
END:VCALENDAR