BEGIN:VCALENDAR
PRODID:-//Microsoft Corporation//Outlook 12.0 MIMEDIR//EN
VERSION:2.0
CALSCALE:GREGORIAN
BEGIN:VEVENT
UID: 6abc2582-8790-4b6b-8b9c-ee6352d05701
SUMMARY:PVPK logoga toodete tellimine 20.04 - 4.05.2026
DTSTAMP:20260420
DTSTART:20260420
DTEND:20260505
DURATION:P15D
LOCATION:Pärnu Vanalinna Põhikool
DESCRIPTION: <p>Pärnu Vanalinna Põhikooli logoga tooted on taas saadaval – on aeg valida oma lemmikvärv! 😃 Alates 20. aprillist on avatud meie kooli logoga toodete tellimiskeskkond.</p><p>📅 Tellimisperiood: 20. aprill 2026 – 4. mai 2026<br>📦 Tellitud toodete kättesaamine: uue kooliaasta alguses koolist</p><p>✨ Mida saab tellida?<br>👕 Pusad ja T-särgid – kooli logoga rinnal.<br>Värvid: sinine, punane ning hall.<br>🎒 Nöörkinnisega kott – praktiline must kott valge logoga.</p><p>🔹 Kuidas tellida?<br>1️⃣ Ava tellimiskeskkond: 0cn.de/tellimine6 või kasuta pildil olevat QR-koodi. 📲<br>2️⃣ Vali sobivad tooted. Pane tähele, et suuruse valimisel tasub lähtuda tellimiskeskkonnas olevast mõõdutabelist. 📏<br>3️⃣ Täida andmed ja esita tellimus. 📝<br>4️⃣ Tasu arve – pärast makse laekumist läheb tellimus töösse. 💳<br>5️⃣ Saa tooted kätte – tellimused jagatakse välja koolis 2026/2027. õppeaasta alguses. 🎁<br>&nbsp;</p><p><strong>Link: </strong>https://parnuvanalinnakool.ee/et/sundmuste-kalender/pvpk-logoga-toodete-tellimine-2004-4052026</p><p><strong>Hind: </strong></p>
STATUS:CONFIRMED
SEQUENCE:3
X-ALT-DESC;FMTTYPE=text/html:<p>Pärnu Vanalinna Põhikooli logoga tooted on taas saadaval – on aeg valida oma lemmikvärv! 😃 Alates 20. aprillist on avatud meie kooli logoga toodete tellimiskeskkond.</p><p>📅 Tellimisperiood: 20. aprill 2026 – 4. mai 2026<br>📦 Tellitud toodete kättesaamine: uue kooliaasta alguses koolist</p><p>✨ Mida saab tellida?<br>👕 Pusad ja T-särgid – kooli logoga rinnal.<br>Värvid: sinine, punane ning hall.<br>🎒 Nöörkinnisega kott – praktiline must kott valge logoga.</p><p>🔹 Kuidas tellida?<br>1️⃣ Ava tellimiskeskkond: 0cn.de/tellimine6 või kasuta pildil olevat QR-koodi. 📲<br>2️⃣ Vali sobivad tooted. Pane tähele, et suuruse valimisel tasub lähtuda tellimiskeskkonnas olevast mõõdutabelist. 📏<br>3️⃣ Täida andmed ja esita tellimus. 📝<br>4️⃣ Tasu arve – pärast makse laekumist läheb tellimus töösse. 💳<br>5️⃣ Saa tooted kätte – tellimused jagatakse välja koolis 2026/2027. õppeaasta alguses. 🎁<br>&nbsp;</p><p><strong>Link: </strong>https://parnuvanalinnakool.ee/et/sundmuste-kalender/pvpk-logoga-toodete-tellimine-2004-4052026</p><p><strong>Hind: </strong></p>
X-MICROSOFT-CDO-BUSYSTATUS:OOF
X-MICROSOFT-CDO-IMPORTANCE:1
X-MICROSOFT-DISALLOW-COUNTER:FALSE
X-MS-OLK-ALLOWEXTERNCHECK:TRUE
X-MS-OLK-CONFTYPE:0
X-MICROSOFT-CDO-ALLDAYEVENT:1
X-MICROSOFT-MSNCALENDAR-ALLDAYEVENT:1
END:VEVENT
END:VCALENDAR